BEGIN:VCALENDAR
VERSION:2.0
PRODID:-//The English Choir Berlin - ECPv5.10.1//NONSGML v1.0//EN
CALSCALE:GREGORIAN
METHOD:PUBLISH
X-WR-CALNAME:The English Choir Berlin
X-ORIGINAL-URL:https://englishchoirberlin.com
X-WR-CALDESC:Events for The English Choir Berlin
BEGIN:VTIMEZONE
TZID:Europe/Paris
BEGIN:DAYLIGHT
TZOFFSETFROM:+0100
TZOFFSETTO:+0200
TZNAME:CEST
DTSTART:20260329T010000
END:DAYLIGHT
BEGIN:STANDARD
TZOFFSETFROM:+0200
TZOFFSETTO:+0100
TZNAME:CET
DTSTART:20261025T010000
END:STANDARD
END:VTIMEZONE
BEGIN:VEVENT
DTSTART;TZID=Europe/Paris:20260411T180000
DTEND;TZID=Europe/Paris:20260411T190000
DTSTAMP:20260422T144246
CREATED:20251030T223203Z
LAST-MODIFIED:20251107T142913Z
UID:2346-1775930400-1775934000@englishchoirberlin.com
SUMMARY:Evensong
DESCRIPTION:
URL:https://englishchoirberlin.com/performance/evensong-11/
LOCATION:Berliner Dom\, Am Lustgarten\, Berlin\, Berlin\, 10178\, Germany
ATTACH;FMTTYPE=image/jpeg:https://englishchoirberlin.com/wp-content/uploads/DSC_8009.jpg
END:VEVENT
END:VCALENDAR